BEGIN:VCALENDAR
VERSION:2.0
PRODID:icalendar-ruby
CALSCALE:GREGORIAN
METHOD:PUBLISH
BEGIN:VEVENT
DTSTAMP:20260421T154848Z
UID:03c0cbc3-0542-43ca-9975-83744b3786d4
DTSTART:20260523T060000
DTEND:20260523T160000
DESCRIPTION:<p><span style="color: rgb(0\, 30\, 80)\;">The Sanlam Cape Town
  Marathon is Africa's first Abbott World Marathon Majors Candidate. Enteri
 ng its final year of candidacy in 2026\, this global city\, fast-paced mar
 athon is suited to a range of running enthusiasts from elite athletes to s
 ocial runners.</span></p><p><span style="color: rgb(0\, 30\, 80)\;">T</spa
 n><span style="color: rgb(0\, 30\, 80)\;">he weekend extends past the road
  marathon\, and we’re proud to offer inclusive events for all including<
 /span><span style="color: rgb(0\, 30\, 80)\;"> the 10km and 5km Peace road
  runs as well as three incredible Table Mountain trail runs - 43km\, 22km\
 , and 11km.</span></p><p><span style="color: rgb(0\, 30\, 80)\;">Join us a
 s we run towards Africa's first Major.</span></p>
LOCATION:Fritz Sonnenberg Road\, Green Point Stadium\, Cape Town
SUMMARY:Sanlam Cape Town Marathon Peace and Trail Runs 2026
URL;VALUE=URI:https://capetownmarathon.howler.co.za/CTM2026
END:VEVENT
END:VCALENDAR
