BEGIN:VCALENDAR
VERSION:2.0
PRODID:icalendar-ruby
CALSCALE:GREGORIAN
METHOD:PUBLISH
BEGIN:VEVENT
DTSTAMP:20260421T155631Z
UID:84ad2832-54d2-4ec2-b6a0-498e867dd442
DTSTART:20260524T060000
DTEND:20260524T133000
DESCRIPTION:<p><span>The Sanlam Cape Town Marathon is Africa's first Abbott
  World Marathon Majors Candidate.</span></p><p><span>Entering its final ye
 ar of candidacy in 2026\, this global city\, fast-paced marathon is suited
  to a range of running enthusiasts\, from elite athletes to social runners
 .</span></p><p><span>Successful ballot entrants\, and those who have secur
 ed an entry through a charity or tour operator\, can redeem their entry an
 d complete their registration here.</span></p><p>The weekend extends beyon
 d the road marathon\, and we’re proud to offer inclusive events for all\
 , including the 10km and 5km Peace runs\, as well as three incredible Tabl
 e Mountain trail runs – 43km\, 22km\, and 11km - </span><a href="https:/
 /capetownmarathon.howler.co.za/events/sanlam-cape-town-marathon-peace-and-
 trail-runs-2026-6f9f" target="_blank" style="color: rgb(118\, 79\, 219)\;"
 >entries for which can be purchased here</a><span>.</span></p>
LOCATION:Fritz Sonnenberg Road\, Green Point Stadium\, Cape Town
SUMMARY:Sanlam Cape Town Marathon 2026
URL;VALUE=URI:https://capetownmarathon.howler.co.za/CTM2026BALLOT
END:VEVENT
END:VCALENDAR
